BEGIN:VCALENDAR
VERSION:2.0
PRODID:-//destination.one//NONSGML destination.meta API//DE
X-WR-CALDESC:A calendar powered by destination.meta
X-WR-CALNAME:neunburgvormwald Kalender via destination.meta
BEGIN:VEVENT
CATEGORIES:Sonstiges
DESCRIPTION:\n\nmehr Informationen unter http://pages.destination.one/de/ne
 unburgvormwald/streaming/detail/Event/e_100212760/birkerlfest
DTEND;TZID=Europe/Berlin:20190620T235900
DTSTAMP:20260423T085420Z
DTSTART;TZID=Europe/Berlin:20190620T100000
GEO:49.377764;12.344203
LOCATION:Feuerwehrgerätehaus Schwarzhofen\, General-Stephan-Str. 14\, Schwa
 rzhofen
ORGANIZER;CN=FFW Schwarzhofen:mailto:info@feuerwehr-schwarzhofen.de
SEQUENCE:0
SUMMARY:Birkerlfest
UID:e_100212760_iv0
URL:http://pages.destination.one/de/neunburgvormwald/streaming/detail/Event
 /e_100212760/birkerlfest
END:VEVENT
BEGIN:VEVENT
CATEGORIES:Sonstiges
DESCRIPTION:\n\nmehr Informationen unter http://pages.destination.one/de/ne
 unburgvormwald/streaming/detail/Event/e_100212760/birkerlfest
DTEND;TZID=Europe/Berlin:20240602T235900
DTSTAMP:20260423T085420Z
DTSTART;TZID=Europe/Berlin:20240602T100000
GEO:49.377764;12.344203
LOCATION:Feuerwehrgerätehaus Schwarzhofen\, General-Stephan-Str. 14\, Schwa
 rzhofen
ORGANIZER;CN=FFW Schwarzhofen:mailto:info@feuerwehr-schwarzhofen.de
SEQUENCE:0
SUMMARY:Birkerlfest
UID:e_100212760_iv1
URL:http://pages.destination.one/de/neunburgvormwald/streaming/detail/Event
 /e_100212760/birkerlfest
END:VEVENT
BEGIN:VEVENT
CATEGORIES:Sonstiges
DESCRIPTION:\n\nmehr Informationen unter http://pages.destination.one/de/ne
 unburgvormwald/streaming/detail/Event/e_100212760/birkerlfest
DTEND;TZID=Europe/Berlin:20250619T235900
DTSTAMP:20260423T085420Z
DTSTART;TZID=Europe/Berlin:20250619T100000
GEO:49.377764;12.344203
LOCATION:Feuerwehrgerätehaus Schwarzhofen\, General-Stephan-Str. 14\, Schwa
 rzhofen
ORGANIZER;CN=FFW Schwarzhofen:mailto:info@feuerwehr-schwarzhofen.de
SEQUENCE:0
SUMMARY:Birkerlfest
UID:e_100212760_iv2
URL:http://pages.destination.one/de/neunburgvormwald/streaming/detail/Event
 /e_100212760/birkerlfest
END:VEVENT
BEGIN:VEVENT
CATEGORIES:Sonstiges
DESCRIPTION:\n\nmehr Informationen unter http://pages.destination.one/de/ne
 unburgvormwald/streaming/detail/Event/e_100212760/birkerlfest
DTEND;TZID=Europe/Berlin:20260607T235900
DTSTAMP:20260423T085420Z
DTSTART;TZID=Europe/Berlin:20260607T100000
GEO:49.377764;12.344203
LOCATION:Feuerwehrgerätehaus Schwarzhofen\, General-Stephan-Str. 14\, Schwa
 rzhofen
ORGANIZER;CN=FFW Schwarzhofen:mailto:info@feuerwehr-schwarzhofen.de
SEQUENCE:0
SUMMARY:Birkerlfest
UID:e_100212760_iv3
URL:http://pages.destination.one/de/neunburgvormwald/streaming/detail/Event
 /e_100212760/birkerlfest
END:VEVENT
BEGIN:VTIMEZONE
TZID:Europe/Berlin
X-LIC-LOCATION:Europe/Berlin
BEGIN:DAYLIGHT
DTSTART:19700329T020000
RRULE:FREQ=YEARLY;BYDAY=-1SU;BYMONTH=3
TZNAME:CEST
TZOFFSETFROM:+0100
TZOFFSETTO:+0200
END:DAYLIGHT
BEGIN:STANDARD
DTSTART:19701025T030000
RRULE:FREQ=YEARLY;BYDAY=-1SU;BYMONTH=10
TZNAME:CET
TZOFFSETFROM:+0200
TZOFFSETTO:+0100
END:STANDARD
END:VTIMEZONE
END:VCALENDAR
