BEGIN:VCALENDAR
VERSION:2.0
PRODID:-//destination.one//NONSGML destination.meta API//DE
X-WR-CALDESC:A calendar powered by destination.meta
X-WR-CALNAME:neunburgvormwald Kalender via destination.meta
BEGIN:VEVENT
CATEGORIES:Brauchtum/Kultur
CATEGORIES:Feste/Bälle/Tanz
CATEGORIES:Gastronomie
CATEGORIES:Geselligkeit/Spiele/Treffen
CATEGORIES:Rund um den Fisch
DESCRIPTION:Kleinwinklarner Fischkirwa\n\nmehr Informationen unter http://p
 ages.destination.one/de/neunburgvormwald/streaming/detail/Event/e_10125817
 5/kleinwinklarner-fischkirwa
DTEND;TZID=Europe/Berlin;VALUE=DATE:20261005
DTSTAMP:20260423T085546Z
DTSTART;TZID=Europe/Berlin;VALUE=DATE:20261003
GEO:49.315680;12.410079
LOCATION:Trägerverein Dorfgemeinschaftshaus Kleinwinklarn e.V. \, Schulweg 
 3\, Neunburg vorm Wald
ORGANIZER;CN=Trägerverein Dorfgemeinschaftshaus Kleinwinklarn e.V.:mailto:i
 nfo@kleinwinklarn.de
SEQUENCE:0
SUMMARY:Kleinwinklarner Fischkirwa
UID:e_101258175_iv0
URL:http://pages.destination.one/de/neunburgvormwald/streaming/detail/Event
 /e_101258175/kleinwinklarner-fischkirwa
END:VEVENT
BEGIN:VTIMEZONE
TZID:Europe/Berlin
X-LIC-LOCATION:Europe/Berlin
BEGIN:DAYLIGHT
DTSTART:19700329T020000
RRULE:FREQ=YEARLY;BYDAY=-1SU;BYMONTH=3
TZNAME:CEST
TZOFFSETFROM:+0100
TZOFFSETTO:+0200
END:DAYLIGHT
BEGIN:STANDARD
DTSTART:19701025T030000
RRULE:FREQ=YEARLY;BYDAY=-1SU;BYMONTH=10
TZNAME:CET
TZOFFSETFROM:+0200
TZOFFSETTO:+0100
END:STANDARD
END:VTIMEZONE
END:VCALENDAR
