BEGIN:VCALENDAR
VERSION:2.0
PRODID:-//destination.one//NONSGML destination.meta API//DE
X-WR-CALDESC:A calendar powered by destination.meta
X-WR-CALNAME:neunburgvormwald Kalender via destination.meta
BEGIN:VEVENT
CATEGORIES:Brauchtum/Kultur
CATEGORIES:Feste/Bälle/Tanz
CATEGORIES:Genuss/Gourmet
CATEGORIES:Geselligkeit/Spiele/Treffen
CATEGORIES:Kulturkalender
CATEGORIES:Romantik
CATEGORIES:Weihnachten / Advent
DESCRIPTION:Kleinwinklarner Dorfweihnacht\n\nmehr Informationen unter http:
 //pages.destination.one/de/neunburgvormwald/streaming/detail/Event/e_10125
 8177/kleinwinklarner-dorfweihnacht
DTEND;TZID=Europe/Berlin:20261128T233000
DTSTAMP:20260423T085609Z
DTSTART;TZID=Europe/Berlin:20261128T170000
GEO:49.315680;12.410079
LOCATION:Trägerverein Dorfgemeinschaftshaus Kleinwinklarn e.V. \, Schulweg 
 3\, Neunburg vorm Wald
ORGANIZER;CN=Trägerverein Dorfgemeinschaftshaus Kleinwinklarn e.V.:mailto:i
 nfo@kleinwinklarn.de
SEQUENCE:0
SUMMARY:Kleinwinklarner Dorfweihnacht
UID:e_101258177_iv0
URL:http://pages.destination.one/de/neunburgvormwald/streaming/detail/Event
 /e_101258177/kleinwinklarner-dorfweihnacht
END:VEVENT
BEGIN:VTIMEZONE
TZID:Europe/Berlin
X-LIC-LOCATION:Europe/Berlin
BEGIN:DAYLIGHT
DTSTART:19700329T020000
RRULE:FREQ=YEARLY;BYDAY=-1SU;BYMONTH=3
TZNAME:CEST
TZOFFSETFROM:+0100
TZOFFSETTO:+0200
END:DAYLIGHT
BEGIN:STANDARD
DTSTART:19701025T030000
RRULE:FREQ=YEARLY;BYDAY=-1SU;BYMONTH=10
TZNAME:CET
TZOFFSETFROM:+0200
TZOFFSETTO:+0100
END:STANDARD
END:VTIMEZONE
END:VCALENDAR
